Workbook

Sheet 1
A1: Школа | B1: МКОУ Крутишинская СОШ | E1: Отд./корп | I1: День | J1: 02.09.2026г.
A3: Прием пищи | B3: Раздел | C3: № рец. | D3: Блюдо | E3: Выход, г | F3: Цена | G3: Калорийность | H3: Белки | I3: Жиры | J3: Углеводы
A4: Завтрак | B4: гор.блюдо
B5: гор.напиток
B6: хлеб
A9: Завтрак 2 | B9: фрукты
A12: Обед | B12: закуска | D12: =[1]Лист1!E52 -> 0 | E12: =[1]Лист1!F52 -> 0 | G12: =[1]Лист1!J53 -> 90.8 | H12: =[1]Лист1!I52 -> 0 | I12: =[1]Лист1!H53 -> 1.9 | J12: =[1]Лист1!I53 -> 15.1
B13: 1 блюдо | D13: =[1]Лист1!E53 -> Суп картофельный с макаронными изделиями | E13: =[1]Лист1!F53 -> 200 | G13: =[1]Лист1!J54 -> 220.5 | H13: =[1]Лист1!I53 -> 15.1 | I13: =[1]Лист1!H54 -> 13.6 | J13: =[1]Лист1!I54 -> 9.6
B14: 2 блюдо | D14: =[1]Лист1!E54 -> Котлеты Куриные | E14: =[1]Лист1!F54 -> 110 | G14: =[1]Лист1!J55 -> 203.5 | H14: =[1]Лист1!I54 -> 9.6 | I14: =[1]Лист1!H55 -> 4.8 | J14: =[1]Лист1!I55 -> 36.4
B15: гарнир | D15: =[1]Лист1!E55 -> Рис отварной | E15: =[1]Лист1!F55 -> 150 | G15: =[1]Лист1!J56 -> 0 | H15: =[1]Лист1!I55 -> 36.4 | I15: =[1]Лист1!H56 -> 73 | J15: =[1]Лист1!I56 -> 0.1
B16: сладкое
B17: хлеб бел. | D17: =[1]Лист1!E57 -> Хлеб пшеничный | E17: =[1]Лист1!F57 -> 100 | G17: =[1]Лист1!J58 -> 0 | H17: =[1]Лист1!I57 -> 49.2 | I17: =[1]Лист1!H58 -> 0 | J17: =[1]Лист1!I58 -> 0
B18: хлеб черн. | D18: =[1]Лист1!E58 -> 0 | E18: =[1]Лист1!F58 -> 0 | G18: =[1]Лист1!J59 -> 0 | H18: =[1]Лист1!I58 -> 0 | I18: =[1]Лист1!J58 -> 0 | J18: =[1]Лист1!K58 -> 0
B19: напиток | D19: =[1]Лист1!E56 -> Сок | E19: =[1]Лист1!F56 -> 200 | G19: =[1]Лист1!J57 -> 234.4 | H19: =[1]Лист1!I56 -> 0.1 | I19: =[1]Лист1!H57 -> 0.8 | J19: =[1]Лист1!I57 -> 49.2
E20: =[1]Лист1!F60 -> 0 | G20: =[1]Лист1!H60 -> 0 | H20: =[1]Лист1!I60 -> 0 | I20: =[1]Лист1!J60 -> 0 | J20: =[1]Лист1!K60 -> 0
